BEGIN:VCALENDAR
VERSION:2.0
PRODID:icalendar-ruby
CALSCALE:GREGORIAN
METHOD:PUBLISH
BEGIN:VEVENT
DTSTAMP:20260422T085310Z
UID:e9b24639-368e-4d70-826e-b7e0b1ce85a4
DTSTART:20251228T140000
DTEND:20251229T020000
DESCRIPTION:<p><strong>Journey Into The Unconventional at DTF on 28 Decembe
 r 2025! 🌞🤸‍♀️🌊</strong></p><p>Immerse yourself in 12 hours 
 of mind-altering frequencies and revelry energy to the soundscape of inter
 national and local talent weaving their magic across 4 unique dance floors
  🪄 </p><p>🗓️: Sunday\, December 28\, 2025</p><p>⏰: 2 PM - 2 AM<
 /p><p>📍: Cabo Beach</p><p>#JourneyIntoTheUnconventional #DTF #DayTrippi
 ngFestival #EpicVibes</p><p><br></p>
LOCATION:12 South Arm RD\, Victoria & Alfred Waterfront\, Cape Town\, 8002
SUMMARY:Day Tripping Festival - Cape Town 28 December 2025
URL;VALUE=URI:https://musicpeople.howler.co.za/MP28Dec25
END:VEVENT
END:VCALENDAR
