BEGIN:VCALENDAR
VERSION:2.0
PRODID:icalendar-ruby
CALSCALE:GREGORIAN
METHOD:PUBLISH
BEGIN:VEVENT
DTSTAMP:20260424T171628Z
UID:d203534a-c9cb-4e05-b7b2-8b043b3211dd
DTSTART:20260101T150000
DTEND:20260102T020000
DESCRIPTION:<p><strong>🎇 DAY ONE NYD 2026 🎇</strong></p><p><strong>A 
 new year begins with a rare moment - Cape Town’s unmatched New Year’s 
 Day celebration 🍾 </strong></p><p><br></p><p><strong>We proudly welcom
 e for the first time in South Africa internationally acclaimed headliner:<
 /strong></p><h3><strong>Miss Monique (UKR)</strong></h3><p><br></p><p><str
 ong>With stellar lineup across x2 dance floors including:</strong></p><p><
 strong>Henri Bergmann (ENG)</strong></p><p><strong>Argia (ESP)</strong></p
 ><p>Amare (BEL)</p><p>Anthea Scholtz</p><p>Bloem (IBZ)</p><p>Cody Hoff</p>
 <p>Elan Schnider</p><p>Pirelli</p><p>Shugi (PRT)</p><p>Sonic Bloom</p><p>T
 he Fogshow</p><p><br></p><p>Progressive elegance meets pure atmosphere. Th
 is is not just an event… it’s an experience! </p><p>Limited Tickets a
 nd Tables ON SALE NOW!</p><p><br></p><p>📍 Cabo Beach\, Cape Town</p><p>
 🎧 FEAT. MISS MONIQUE \, Henri Bergmann\, Argia and many more.</p><p>
 📆 1 January 2026</p><p>Join us for another unforgettable world-class ex
 perience</p><p><a href="https://www.instagram.com/wearemusicpeople/" targe
 t="_blank" style="color: rgb(255\, 0\, 0)\;"><strong>Follow us on Instagra
 m</strong></a><span style="color: rgb(255\, 0\, 0)\;"> </span>to stay up t
 o date with all our Summer Season event info & announcements.</p><p><br></
 p>
LOCATION:12 South Arm RD\, Victoria & Alfred Waterfront\, Cape Town\, 8002
SUMMARY:DAYONE NYD Feat. Miss Monique (UKR) - Cape Town 01 January 2026
URL;VALUE=URI:https://musicpeople.howler.co.za/MP1Jan26
END:VEVENT
END:VCALENDAR
