BEGIN:VCALENDAR
VERSION:2.0
PRODID:icalendar-ruby
CALSCALE:GREGORIAN
METHOD:PUBLISH
BEGIN:VEVENT
DTSTAMP:20260421T221421Z
UID:38fc0b0f-0ad3-4753-ab58-04ccc46bc46a
DTSTART:20231226T160000
DTEND:20231227T020000
DESCRIPTION:<p>Goldfish Live - Cape Town 26 December 2023</p>
LOCATION:12 South Arm RD\, Victoria & Alfred Waterfront\, Cape Town\, 8002
SUMMARY:Goldfish Submerged x Corona Sunsets Summer Tour 2023
URL;VALUE=URI:https://musicpeople.howler.co.za/goldfish26dec
END:VEVENT
END:VCALENDAR
