BEGIN:VCALENDAR
VERSION:2.0
PRODID:icalendar-ruby
CALSCALE:GREGORIAN
METHOD:PUBLISH
BEGIN:VEVENT
DTSTAMP:20260421T124710Z
UID:291e76ae-b1fe-46f0-8a0e-402e13f10511
DTSTART:20251229T160000
DTEND:20251230T020000
DESCRIPTION:<p>Kunye - Cape Town - 29 December 2025</p>
LOCATION:12 South Arm RD\, Victoria & Alfred Waterfront\, Cape Town\, 8002
SUMMARY:Kunye - Cape Town 29 December 2025
URL;VALUE=URI:https://musicpeople.howler.co.za/MP29Dec25
END:VEVENT
END:VCALENDAR
