BEGIN:VCALENDAR
VERSION:2.0
PRODID:icalendar-ruby
CALSCALE:GREGORIAN
METHOD:PUBLISH
BEGIN:VEVENT
DTSTAMP:20260423T154441Z
UID:6c13eae2-f7e9-469a-a229-13df72c3afca
DTSTART:20240104T180000
DTEND:20240105T020000
DESCRIPTION:<p><strong style="color: rgb(0\, 0\, 0)\;">Showtime presents di
 nner & theatre like you’ve never experienced before: A little bit of bur
 lesque\, a touch of cabaret\, fantastic performances and an exquisite set 
 course meal. Join us at Cabo Beach Club as we welcome 2024!</strong></p><p
 ><br></p><p><span style="color: rgb(0\, 0\, 0)\;">Enjoy and indulge in our
  meticulously curated set-course dinner menu every night while being dazzl
 ed by dancers\, mesmerised by singers\, and enthralled by acrobats in our 
 show of international performing talents. With the grand opening on 2 Janu
 ary 2024 running till 4 January\, you won't want to miss out on this once 
 in a lifetime uniquely immersive dinner show extravaganza.</span></p><p><b
 r></p><p><span style="color: rgb(0\, 0\, 0)\;">This year we will see Showt
 ime not only for a wonderful one night performance\, but running over thre
 e days! Start your first nights of 2024 by watching a tantalising performa
 nce while nibbling on a delicious set course meal and dancing the night aw
 ay with the sounds of global artists.</span></p><p><br></p><p><span style=
 "color: rgb(0\, 0\, 0)\;">The head chef\, Ryan Cole\, originally hailing f
 rom a Cape Town fishing family\, lives out his love of the sea by creating
  thoughtful dishes that are true to the seasons. </span></p><p><br></p><p
 ><em style="color: rgb(0\, 0\, 0)\;">“My food is understated\, balanced.
  Rather than telling guests what to look for\, I carefully consider the se
 condary ingredient. This creates mystery in every course” - Ryan Cole <
 /em></p><p><br></p><p><br></p>
LOCATION:12 South Arm RD\, Victoria & Alfred Waterfront\, Cape Town\, 8002
SUMMARY:Showtime Spectacular: Dinner  Show  Party - Cape Town 04 January 20
 24
URL;VALUE=URI:https://musicpeople.howler.co.za/Showtime4Jan
END:VEVENT
END:VCALENDAR
