BEGIN:VCALENDAR
VERSION:2.0
PRODID:icalendar-ruby
CALSCALE:GREGORIAN
METHOD:PUBLISH
BEGIN:VEVENT
DTSTAMP:20260419T152147Z
UID:f9ef8439-8a83-493a-88ee-37c7c280eda9
DTSTART:20181216T170000
DTEND:20181217T020000
DESCRIPTION:Get ready for the <strong>7th edition of GoldFish Submerged Sun
 days\,</strong> Cape Town's biggest summer residency at the sexy <strong>S
 himmy Beach Club!</strong> Back from their 2018 tour of the globe\, SA's f
 avourite duo return to the surf of the Atlantic ocean with their sound per
 fectly fitted to the celebration of summer. <br></br> <strong>Doors open a
 t 5pm.</strong> <br></br> VIP grants you access via a separate entrance to
  the VIP lounge area\, with VIP toilets\, waiter service and unreserved se
 ating. <br> For VIP couch pocket bookings\, please email: tickets@shimmybe
 achclub.co.za <br></br> Tickets are sold in phases\, with each phase limit
 ed to a certain number of tickets. When one phase sells out\, the next pha
 se kicks in. There is no difference between each of the phases\, besides t
 he price. <br></br> <strong>No under 18s. R.O.A.R</strong> <br></br> <stro
 ng>Drink Responsibly</strong> <br></br> Parking Details: <br> The closest 
 parking lot to Shimmy Beach Club is at The Clock Tower\, V & A Waterfront\
 , with Shimmy shuttles running frequently between there and the venue. It 
 is however encouraged that partygoers make use of UBER’s private drivers
LOCATION:12 South Arm Road\, V&A Waterfront\, Cape Town\, Western Cape\, 80
 01
SUMMARY:Submerged presents Goldfish 16 December 2018
URL;VALUE=URI:https://musicpeople.howler.co.za/16December
END:VEVENT
END:VCALENDAR
