BEGIN:VCALENDAR
VERSION:2.0
PRODID:icalendar-ruby
CALSCALE:GREGORIAN
METHOD:PUBLISH
BEGIN:VEVENT
DTSTAMP:20260419T153146Z
UID:88bd4aaa-e874-476f-b06e-c1ad07f6a9fe
DTSTART:20181209T170000
DTEND:20181210T020000
DESCRIPTION:Get ready for the <strong>7th edition of GoldFish Submerged Sun
 days\,</strong> Cape Town's biggest summer residency at the sexy <strong>S
 himmy Beach Club!</strong> Back from their 2018 tour of the globe\, SA's f
 avourite duo return to the surf of the Atlantic ocean with their sound per
 fectly fitted to the celebration of summer.\n<br></br>\n<strong>Doors open
  at 5pm.</strong>\n<br></br>\nVIP grants you access via a separate entranc
 e to the VIP lounge area\, with VIP toilets\, waiter service and unreserve
 d seating.\n<br>\nFor VIP couch pocket bookings\, please email: tickets@sh
 immybeachclub.co.za\n<br></br>\nTickets are sold in phases\, with each pha
 se limited to a certain number of tickets. When one phase sells out\, the 
 next phase kicks in. There is no difference between each of the phases\, b
 esides the price. \n<br></br>\n<strong>No under 18s. R.O.A.R</strong>\n<br
 ></br>\n<strong>Drink Responsibly</strong>\n<br></br>\nParking Details:\n<
 br>\nThe closest parking lot to Shimmy Beach Club is at The Clock Tower\, 
 V & A Waterfront\, with Shimmy shuttles running frequently between there a
 nd the venue. It is however encouraged that partygoers make use of UBER’
 s private drivers
LOCATION:12 South Arm Road\, V&A Waterfront\, Cape Town\, Western Cape\, 80
 01
SUMMARY:Submerged presents Goldfish - Opening Party
URL;VALUE=URI:https://musicpeople.howler.co.za/submergedopening
END:VEVENT
END:VCALENDAR
